BEGIN:VCALENDAR
VERSION:2.0
PRODID:-//New Covenant Fellowship - ECPv6.15.11//NONSGML v1.0//EN
CALSCALE:GREGORIAN
METHOD:PUBLISH
X-WR-CALNAME:New Covenant Fellowship
X-ORIGINAL-URL:https://ncfok.org
X-WR-CALDESC:Events for New Covenant Fellowship
REFRESH-INTERVAL;VALUE=DURATION:PT1H
X-Robots-Tag:noindex
X-PUBLISHED-TTL:PT1H
BEGIN:VTIMEZONE
TZID:UTC
BEGIN:STANDARD
TZOFFSETFROM:+0000
TZOFFSETTO:+0000
TZNAME:UTC
DTSTART:20240101T000000
END:STANDARD
END:VTIMEZONE
BEGIN:VEVENT
DTSTART;TZID=UTC:20250212T183000
DTEND;TZID=UTC:20250212T200000
DTSTAMP:20260420T214210
CREATED:20250204T162207Z
LAST-MODIFIED:20250217T151129Z
UID:870-1739385000-1739390400@ncfok.org
SUMMARY:Generation Truth Youth Group
DESCRIPTION:Generation Truth Youth Group provides community for students 13 to 18 years old\, and meets in the youth room.
URL:https://ncfok.org/event/generation-truth-youth-group-2/
LOCATION:New Covenant Fellowship\, 1110 E. McElroy Rd.\, Stillwater\, OK\, United States
ATTACH;FMTTYPE=image/png:https://ncfok.org/wp-content/uploads/2025/02/5.png
END:VEVENT
BEGIN:VEVENT
DTSTART;TZID=UTC:20250212T180000
DTEND;TZID=UTC:20250212T200000
DTSTAMP:20260420T214210
CREATED:20250204T162436Z
LAST-MODIFIED:20250204T194955Z
UID:876-1739383200-1739390400@ncfok.org
SUMMARY:Saints Alive Ministry
DESCRIPTION:Saints Alive gather each month for a delicious potluck meal and spiritual refreshment\, worship and prayer! Ages 60 and up.
URL:https://ncfok.org/event/saints-alive-ministry/
LOCATION:New Covenant Fellowship\, 1110 E. McElroy Rd.\, Stillwater\, OK\, United States
ATTACH;FMTTYPE=image/jpeg:https://ncfok.org/wp-content/uploads/2025/01/307912032_2327289454093888_4482184289976659801_n-e1736530385146.jpg
END:VEVENT
BEGIN:VEVENT
DTSTART;TZID=UTC:20250212T180000
DTEND;TZID=UTC:20250212T193000
DTSTAMP:20260420T214210
CREATED:20250204T161937Z
LAST-MODIFIED:20250204T194424Z
UID:864-1739383200-1739388600@ncfok.org
SUMMARY:Wednesdays in the Word
DESCRIPTION:Join us for a deep dive into God’s word with Pastor Cornell! Meet downstairs in the lounge.
URL:https://ncfok.org/event/wednesdays-in-the-word-2/
LOCATION:New Covenant Fellowship\, 1110 E. McElroy Rd.\, Stillwater\, OK\, United States
ATTACH;FMTTYPE=image/png:https://ncfok.org/wp-content/uploads/2025/02/1.png
END:VEVENT
BEGIN:VEVENT
DTSTART;TZID=UTC:20250211T063000
DTEND;TZID=UTC:20250211T090000
DTSTAMP:20260420T214210
CREATED:20250204T161703Z
LAST-MODIFIED:20250204T195011Z
UID:854-1739255400-1739264400@ncfok.org
SUMMARY:Men and Women's Bible Study Groups
DESCRIPTION:Join us for Bible study and prayer. Men meet in the upstairs conference room\, while the women meet in the lobby. The sanctuary is also open for prayer.
URL:https://ncfok.org/event/men-and-womens-bible-study-groups-2/
LOCATION:New Covenant Fellowship\, 1110 E. McElroy Rd.\, Stillwater\, OK\, United States
ATTACH;FMTTYPE=image/png:https://ncfok.org/wp-content/uploads/2025/02/4.png
END:VEVENT
BEGIN:VEVENT
DTSTART;TZID=UTC:20250205T183000
DTEND;TZID=UTC:20250205T200000
DTSTAMP:20260420T214210
CREATED:20250204T162140Z
LAST-MODIFIED:20250217T151135Z
UID:868-1738780200-1738785600@ncfok.org
SUMMARY:Generation Truth Youth Group
DESCRIPTION:Generation Truth Youth Group provides community for students 13 to 18 years old\, and meets in the youth room.
URL:https://ncfok.org/event/generation-truth-youth-group/
LOCATION:New Covenant Fellowship\, 1110 E. McElroy Rd.\, Stillwater\, OK\, United States
ATTACH;FMTTYPE=image/png:https://ncfok.org/wp-content/uploads/2025/02/5.png
END:VEVENT
BEGIN:VEVENT
DTSTART;TZID=UTC:20250205T180000
DTEND;TZID=UTC:20250205T193000
DTSTAMP:20260420T214210
CREATED:20250204T161908Z
LAST-MODIFIED:20250204T194524Z
UID:860-1738778400-1738783800@ncfok.org
SUMMARY:Wednesdays in the Word
DESCRIPTION:Join us for a deep dive into God’s word with Pastor Cornell! Meet downstairs in the lounge.
URL:https://ncfok.org/event/wednesdays-in-the-word/
LOCATION:New Covenant Fellowship\, 1110 E. McElroy Rd.\, Stillwater\, OK\, United States
ATTACH;FMTTYPE=image/png:https://ncfok.org/wp-content/uploads/2025/02/1.png
END:VEVENT
BEGIN:VEVENT
DTSTART;TZID=UTC:20250204T063000
DTEND;TZID=UTC:20250204T090000
DTSTAMP:20260420T214210
CREATED:20250204T161638Z
LAST-MODIFIED:20250204T195027Z
UID:852-1738650600-1738659600@ncfok.org
SUMMARY:Men and Women's Bible Study Groups
DESCRIPTION:Join us for Bible study and prayer. Men meet in the upstairs conference room\, while the women meet in the lobby. The sanctuary is also open for prayer.
URL:https://ncfok.org/event/men-and-womens-bible-study-groups/
LOCATION:New Covenant Fellowship\, 1110 E. McElroy Rd.\, Stillwater\, OK\, United States
ATTACH;FMTTYPE=image/png:https://ncfok.org/wp-content/uploads/2025/02/4.png
END:VEVENT
END:VCALENDAR