BEGIN:VCALENDAR
VERSION:2.0
PRODID:-//New Covenant Fellowship - ECPv6.15.11//NONSGML v1.0//EN
CALSCALE:GREGORIAN
METHOD:PUBLISH
X-ORIGINAL-URL:https://ncfok.org
X-WR-CALDESC:Events for New Covenant Fellowship
REFRESH-INTERVAL;VALUE=DURATION:PT1H
X-Robots-Tag:noindex
X-PUBLISHED-TTL:PT1H
BEGIN:VTIMEZONE
TZID:UTC
BEGIN:STANDARD
TZOFFSETFROM:+0000
TZOFFSETTO:+0000
TZNAME:UTC
DTSTART:20240101T000000
END:STANDARD
END:VTIMEZONE
BEGIN:VEVENT
DTSTART;TZID=UTC:20250629T180000
DTEND;TZID=UTC:20250629T193000
DTSTAMP:20260420T194657
CREATED:20250523T012624Z
LAST-MODIFIED:20250523T012624Z
UID:1152-1751220000-1751225400@ncfok.org
SUMMARY:Discipleship Group Joint Social
DESCRIPTION:Discipleship Group Joint Social meet in the church building June 29\, 2025 at 6:00 p.m.
URL:https://ncfok.org/event/discipleship-group-joint-social/
LOCATION:New Covenant Fellowship\, 1110 E. McElroy Rd.\, Stillwater\, OK\, United States
END:VEVENT
END:VCALENDAR