BEGIN:VCALENDAR
VERSION:2.0
PRODID:-//New Covenant Fellowship - ECPv6.15.11//NONSGML v1.0//EN
CALSCALE:GREGORIAN
METHOD:PUBLISH
X-ORIGINAL-URL:https://ncfok.org
X-WR-CALDESC:Events for New Covenant Fellowship
REFRESH-INTERVAL;VALUE=DURATION:PT1H
X-Robots-Tag:noindex
X-PUBLISHED-TTL:PT1H
BEGIN:VTIMEZONE
TZID:UTC
BEGIN:STANDARD
TZOFFSETFROM:+0000
TZOFFSETTO:+0000
TZNAME:UTC
DTSTART:20240101T000000
END:STANDARD
END:VTIMEZONE
BEGIN:VEVENT
DTSTART;TZID=UTC:20250622T180000
DTEND;TZID=UTC:20250622T193000
DTSTAMP:20260420T194650
CREATED:20250523T011432Z
LAST-MODIFIED:20250523T011827Z
UID:1140-1750615200-1750620600@ncfok.org
SUMMARY:Renewed Women's Group
DESCRIPTION:Join us for a time of fellowship and Bible study in the downstairs lounge!
URL:https://ncfok.org/event/renewed-womens-group-6/
LOCATION:New Covenant Fellowship\, 1110 E. McElroy Rd.\, Stillwater\, OK\, United States
ATTACH;FMTTYPE=image/png:https://ncfok.org/wp-content/uploads/2025/02/6.png
END:VEVENT
BEGIN:VEVENT
DTSTART;TZID=UTC:20250622T180000
DTEND;TZID=UTC:20250622T193000
DTSTAMP:20260420T194650
CREATED:20250523T012043Z
LAST-MODIFIED:20250523T012043Z
UID:1142-1750615200-1750620600@ncfok.org
SUMMARY:Bare Bones Men's Group
DESCRIPTION:Join us in the youth room for a time of fellowship and Bible study!
URL:https://ncfok.org/event/bare-bones-mens-group-3/
LOCATION:New Covenant Fellowship\, 1110 E. McElroy Rd.\, Stillwater\, OK\, United States
ATTACH;FMTTYPE=image/png:https://ncfok.org/wp-content/uploads/2025/02/7.png
END:VEVENT
END:VCALENDAR