BEGIN:VCALENDAR
VERSION:2.0
PRODID:-//New Covenant Fellowship - ECPv6.15.11//NONSGML v1.0//EN
CALSCALE:GREGORIAN
METHOD:PUBLISH
X-ORIGINAL-URL:https://ncfok.org
X-WR-CALDESC:Events for New Covenant Fellowship
REFRESH-INTERVAL;VALUE=DURATION:PT1H
X-Robots-Tag:noindex
X-PUBLISHED-TTL:PT1H
BEGIN:VTIMEZONE
TZID:UTC
BEGIN:STANDARD
TZOFFSETFROM:+0000
TZOFFSETTO:+0000
TZNAME:UTC
DTSTART:20240101T000000
END:STANDARD
END:VTIMEZONE
BEGIN:VEVENT
DTSTART;TZID=UTC:20250425T183000
DTEND;TZID=UTC:20250425T193000
DTSTAMP:20260420T223926
CREATED:20250422T185253Z
LAST-MODIFIED:20250422T185313Z
UID:1091-1745605800-1745609400@ncfok.org
SUMMARY:Worship Night
DESCRIPTION:There will be a worship night on Friday\, April 25th in the sanctuary! Join the NCF worship team at 6:30PM!
URL:https://ncfok.org/event/worship-night/
LOCATION:New Covenant Fellowship\, 1110 E. McElroy Rd.\, Stillwater\, OK\, United States
ATTACH;FMTTYPE=image/jpeg:https://ncfok.org/wp-content/uploads/2025/01/New-Covenant-Fellowship-58-scaled-e1736521221227.jpg
END:VEVENT
END:VCALENDAR