BEGIN:VCALENDAR
VERSION:2.0
PRODID:-//New Covenant Fellowship - ECPv6.15.11//NONSGML v1.0//EN
CALSCALE:GREGORIAN
METHOD:PUBLISH
X-ORIGINAL-URL:https://ncfok.org
X-WR-CALDESC:Events for New Covenant Fellowship
REFRESH-INTERVAL;VALUE=DURATION:PT1H
X-Robots-Tag:noindex
X-PUBLISHED-TTL:PT1H
BEGIN:VTIMEZONE
TZID:UTC
BEGIN:STANDARD
TZOFFSETFROM:+0000
TZOFFSETTO:+0000
TZNAME:UTC
DTSTART:20240101T000000
END:STANDARD
END:VTIMEZONE
BEGIN:VEVENT
DTSTART;TZID=UTC:20250330T120000
DTEND;TZID=UTC:20250330T133000
DTSTAMP:20260421T013331
CREATED:20250324T160139Z
LAST-MODIFIED:20250324T160240Z
UID:1061-1743336000-1743341400@ncfok.org
SUMMARY:Church Chili Lunch
DESCRIPTION:Bring your favorite chili or soup to share! Immediately after service at 12 pm. Remember to bring a friend!
URL:https://ncfok.org/event/church-chili-lunch/
LOCATION:New Covenant Fellowship\, 1110 E. McElroy Rd.\, Stillwater\, OK\, United States
ATTACH;FMTTYPE=image/png:https://ncfok.org/wp-content/uploads/2025/03/chili-lunch.png
END:VEVENT
END:VCALENDAR