BEGIN:VCALENDAR
VERSION:2.0
PRODID:-//New Covenant Fellowship - ECPv6.15.11//NONSGML v1.0//EN
CALSCALE:GREGORIAN
METHOD:PUBLISH
X-ORIGINAL-URL:https://ncfok.org
X-WR-CALDESC:Events for New Covenant Fellowship
REFRESH-INTERVAL;VALUE=DURATION:PT1H
X-Robots-Tag:noindex
X-PUBLISHED-TTL:PT1H
BEGIN:VTIMEZONE
TZID:UTC
BEGIN:STANDARD
TZOFFSETFROM:+0000
TZOFFSETTO:+0000
TZNAME:UTC
DTSTART:20240101T000000
END:STANDARD
END:VTIMEZONE
BEGIN:VEVENT
DTSTART;TZID=UTC:20250226T180000
DTEND;TZID=UTC:20250226T193000
DTSTAMP:20260423T032253
CREATED:20250204T162015Z
LAST-MODIFIED:20250204T194342Z
UID:862-1740592800-1740598200@ncfok.org
SUMMARY:Wednesdays in the Word
DESCRIPTION:Join us for a deep dive into God’s word with Pastor Cornell! Meet downstairs in the lounge.
URL:https://ncfok.org/event/wednesdays-in-the-word-4/
LOCATION:New Covenant Fellowship\, 1110 E. McElroy Rd.\, Stillwater\, OK\, United States
ATTACH;FMTTYPE=image/png:https://ncfok.org/wp-content/uploads/2025/02/1.png
END:VEVENT
BEGIN:VEVENT
DTSTART;TZID=UTC:20250226T183000
DTEND;TZID=UTC:20250226T200000
DTSTAMP:20260423T032253
CREATED:20250204T162240Z
LAST-MODIFIED:20250217T151117Z
UID:872-1740594600-1740600000@ncfok.org
SUMMARY:Generation Truth Youth Group
DESCRIPTION:Generation Truth Youth Group provides community for students 13 to 18 years old\, and meets in the youth room.
URL:https://ncfok.org/event/generation-truth-youth-group-4/
LOCATION:New Covenant Fellowship\, 1110 E. McElroy Rd.\, Stillwater\, OK\, United States
ATTACH;FMTTYPE=image/png:https://ncfok.org/wp-content/uploads/2025/02/5.png
END:VEVENT
END:VCALENDAR